BEGIN:VCALENDAR
VERSION:2.0
PRODID:icalendar-ruby
CALSCALE:GREGORIAN
METHOD:PUBLISH
BEGIN:VEVENT
DTSTAMP:20260421T085548Z
UID:event-66291@stampinup.net
DTSTART;TZID=America/New_York:20220810T000000
DTEND;TZID=America/New_York:20220810T235500
CREATED:20200831T163043
DESCRIPTION:Today is the last day to subscribe for this month's Paper Pumpk
 in kit.  Don't miss out.\nhttps://www.paperpumpkin.com/en-us/sign-up/?dem
 oid=86290\n\nEvent link: https://stampinup.net/crm/events/66291
LAST-MODIFIED:20200831T163144
ORGANIZER;CN=Mary Rodgers:mailto:maryrodgers_su@yahoo.com
SUMMARY:Last day to subscribe for this month's Paper Pumpkin kit
URL;VALUE=URI:https://stampinup.net/crm/events/66291
END:VEVENT
END:VCALENDAR
