BEGIN:VCALENDAR
VERSION:2.0
PRODID:icalendar-ruby
CALSCALE:GREGORIAN
METHOD:PUBLISH
BEGIN:VEVENT
DTSTAMP:20260426T020045Z
UID:event-66161@stampinup.net
DTSTART;TZID=America/New_York:20220811T150000
DTEND;TZID=America/New_York:20220811T160000
CREATED:20200830T205409
DESCRIPTION:Join me as I create several projects showcasing a particular st
 amp set\, bundle or suite from the amazing Stampin' Up! product line.  Th
 ere will be an ordering incentive that you don't want to miss out on each 
 month (with a qualifying order).  The event will be held LIVE on my busin
 ess FB group then a recording will be uploaded to the Honeybee Stampers Yo
 uTube channel. \n\nCustomer Facebook Group: https://www.facebook.com/gro
 ups/HoneybeeStampers/\n\nEvent link: https://stampinup.net/crm/events/6616
 1
LAST-MODIFIED:20220408T090425
LOCATION:https://www.facebook.com/groups/281091336315386\, Comfort of your 
 computer
ORGANIZER;CN=Hattie Nelson:mailto:honeybeestampers@gmail.com
SUMMARY:Online Paper Crafting Workshop
URL;VALUE=URI:https://stampinup.net/crm/events/66161
END:VEVENT
END:VCALENDAR
