BEGIN:VCALENDAR
VERSION:2.0
PRODID:icalendar-ruby
CALSCALE:GREGORIAN
METHOD:PUBLISH
BEGIN:VEVENT
DTSTAMP:20260423T173936Z
UID:event-6610@stampinup.net
DTSTART;TZID=America/New_York:20200227T150000
DTEND;TZID=America/New_York:20200301T120000
CREATED:20190913T145126
DESCRIPTION:Pack your bags and get ready for a First Class crafting advent
 ure as we travel the world at the 2020 Scrappy Stamper’s Getaway!\nJoi
 n us for this annual event!  Get all the details and register today at h
 ttp://scrappystampersgetaway.com/\n\nEvent link: https://stampinup.net/crm
 /events/6610
LAST-MODIFIED:20190913T145218
LOCATION:Golden Sand Beach Resort\, 1211 S. Lake Park Blvd Carolina Beach\,
  NC 28428
ORGANIZER;CN=Tracie Langley:mailto:tracie@stampwithtracie.com
SUMMARY:the Scrappy Stampers' Getaway!
URL;VALUE=URI:https://stampinup.net/crm/events/6610
END:VEVENT
END:VCALENDAR
