BEGIN:VCALENDAR
VERSION:2.0
PRODID:icalendar-ruby
CALSCALE:GREGORIAN
METHOD:PUBLISH
BEGIN:VEVENT
DTSTAMP:20260420T020722Z
UID:event-6604@stampinup.net
DTSTART;TZID=America/New_York:20191229T200000
DTEND;TZID=America/New_York:20191229T200500
CREATED:20190913T144700
DESCRIPTION:Come hop along with me and the talented NC Demos at www.thesass
 ystamper.com for our monthly blog hop!   \n \n\nEvent link: https://st
 ampinup.net/crm/events/6604
LAST-MODIFIED:20190913T144700
LOCATION:Wherever You Are!
ORGANIZER;CN=Tracie Langley:mailto:tracie@stampwithtracie.com
SUMMARY:The NC Demos Blog Hop
URL;VALUE=URI:https://stampinup.net/crm/events/6604
END:VEVENT
END:VCALENDAR
