BEGIN:VCALENDAR
VERSION:2.0
PRODID:icalendar-ruby
CALSCALE:GREGORIAN
METHOD:PUBLISH
BEGIN:VEVENT
DTSTAMP:20260423T193220Z
UID:event-6575@stampinup.net
DTSTART;TZID=America/New_York:20190917T180000
DTEND;TZID=America/New_York:20190917T200000
CREATED:20190913T143726
DESCRIPTION:Come make as many quick and easy cards as you like or have time
  to make at this monthly event for just $2 each!. Each month will feature 
 a different theme with thre to six designs. Please note that the designs w
 ill have some color and embellishment variations due to packaging availabi
 lity of DSP\, ribbon and other embellishments.\n\nSeptember is ALL about F
 all and Halloween!\nFeel free to bring your own envelopes to stamp to matc
 h. A basic tool kit is always nice to have for your own convenience.\n\nUn
 less\, this is your FIRST stamping event\, your own adhesive is a MUST! Th
 is includes SNAIL\, dimensionals\, glue dots\, glue\, tape\, etc...All oth
 er supplies will be provided.\n\nThere are ONLY 6 spots avallable for each
  session.  Contact me today to reserve yours!\n\nEvent link: https://stam
 pinup.net/crm/events/6575
LAST-MODIFIED:20190913T143726
LOCATION:the Stamp Pad\, Raleigh\, NC
ORGANIZER;CN=Tracie Langley:mailto:tracie@stampwithtracie.com
SUMMARY:Cute Cards Quick
URL;VALUE=URI:https://stampinup.net/crm/events/6575
END:VEVENT
END:VCALENDAR
