BEGIN:VCALENDAR
VERSION:2.0
PRODID:icalendar-ruby
CALSCALE:GREGORIAN
METHOD:PUBLISH
BEGIN:VEVENT
DTSTAMP:20260422T095601Z
UID:event-65171@stampinup.net
DTSTART;TZID=America/New_York:20200928T100000
DTEND;TZID=America/New_York:20200928T120000
CREATED:20200825T173446
DESCRIPTION:Join me for an in-person cardmaking session\, where we will mak
 e 10 seasonal/Christmas cards with envelopes. Attendees must bring their o
 wn adhesive. Cost is $20 -- cash or check only!\nMasks will be required an
 d attendees will be asked to use hand sanitizer upon arrival.\n\nEvent lin
 k: https://stampinup.net/crm/events/65171
LAST-MODIFIED:20200825T173446
LOCATION:Connie's Home\, Hershey\, PA
ORGANIZER;CN=Connie Reitz:mailto:crazee4stamps@comcast.net
SUMMARY:Seasonal Cardmaking
URL;VALUE=URI:https://stampinup.net/crm/events/65171
END:VEVENT
END:VCALENDAR
