BEGIN:VCALENDAR
VERSION:2.0
PRODID:icalendar-ruby
CALSCALE:GREGORIAN
METHOD:PUBLISH
BEGIN:VEVENT
DTSTAMP:20260420T051023Z
UID:event-64754@stampinup.net
DTSTART;VALUE=DATE:20200901
DTEND;VALUE=DATE:20200901
CREATED:20200823T081447
DESCRIPTION:Today is the day! The standard size Stampin' Cut &amp\; Emboss 
 Machine is available to customers!  Comes with all the plates needed to g
 et started. Click the SHOP tab to go straight to my store.\n\nEvent link: 
 https://stampinup.net/crm/events/64754
LAST-MODIFIED:20200823T081546
ORGANIZER;CN=Julie Davidse:mailto:stampinjul@outlook.com
SUMMARY:New Stampin' Cut & Emboss Machine is Available TODAY!
URL;VALUE=URI:https://stampinup.net/crm/events/64754
END:VEVENT
END:VCALENDAR
