BEGIN:VCALENDAR
VERSION:2.0
PRODID:icalendar-ruby
CALSCALE:GREGORIAN
METHOD:PUBLISH
BEGIN:VEVENT
DTSTAMP:20260424T171712Z
UID:event-63389@stampinup.net
DTSTART;TZID=America/New_York:20200831T190000
DTEND;TZID=America/New_York:20200831T210000
CREATED:20200811T135408
DESCRIPTION:Have you missed Stamp Class as much as me?? Then let’s start 
 back with a stamp set that my FaceBook group chose to be first: Nothing
 ’s Better Than! We’ll be making 4 cards featuring some of everyone’s
  favorite things — Chocolate\, Coffee\, Cocktails\, and Cookies!\n\n \n
 \nThis will be a long-distance class\, but it’ll still be social! All of
  the needed supplies will be prepared and sent to you so we can craft toge
 ther during a Facebook Live (or a Zoom video). I’ll be your creative coa
 ch and show you each step to put together these delicious-looking cards.\n
 \n \n\nCost is FREE with the purchase of the featured stamp set (Nothing
 ’s Better Than https://bit.ly/31CNGvs)\, and I will send you all of the
  cardstock\, designer series paper\, envelopes\, twine\, and die cuts for 
 these cards prior to the class.  You’ll be able to make lots of additi
 onal projects with this versatile stamp set.\n\n \n\nOther supplies you w
 ill use for this class are:\n\n * A dark brown ink pad (I used Soft Suede
  https://bit.ly/2PGhfqo)\n\n * 2019-2021 In-Color Stampin’ Write Marke
 rs (https://bit.ly/2PK7Luc)\n\n * Adhesive (Multi-purpose liquid glue is 
 versatile https://bit.ly/3fJAIRv)\n\nIf you don’t have these other supp
 lies already\, add them to your order and we will surely use them for futu
 re classes as well!\n\n \n\nMessage me with any questions\, and RSVP at m
 y Facebook Group: https://www.facebook.com/laurascraftcloset \nI look fo
 rward to getting back to cardmaking and “seeing” everyone!\n\nI sugges
 t ordering your stamp set by Wednesday August 19th to ensure your stamps a
 re there in time!\n\n\nEvent link: https://stampinup.net/crm/events/63389
LAST-MODIFIED:20200811T135543
LOCATION:Your craft area!
ORGANIZER;CN=Laura Geffert:mailto:laurascraftcloset@gmail.com
SUMMARY:Nothing’s Better Than Stamp Class
URL;VALUE=URI:https://stampinup.net/crm/events/63389
END:VEVENT
END:VCALENDAR
