BEGIN:VCALENDAR
VERSION:2.0
PRODID:icalendar-ruby
CALSCALE:GREGORIAN
METHOD:PUBLISH
BEGIN:VEVENT
DTSTAMP:20260421T233148Z
UID:event-63141@stampinup.net
DTSTART;TZID=America/New_York:20201119T110000
DTEND;TZID=America/New_York:20201119T120000
CREATED:20200810T080409
DESCRIPTION:November Scrap Club \n\nJoin us to make three 2-page scrapbook 
 layouts using 12x12 paper.  I will send out pictures of the layouts a cou
 ple days in advance so you can pre-choose your pictures to bring to class.
 \n\nWhen:  Choose from any of the dates/times listed below: \n\n\n	Thursd
 ay\, November 12\, 1:00 OR 6:30 P.M.\n	Thursday\, November 19\, 1:00 OR 6:
 30 P.M.\n	Tuesday\, December 1\, 6:30 P.M. \n\n\n Where: StampThat Studio
 \, New Freedom\, PA \n\nCost: $18.00 as a member\, $20.00 non-members \n\n
 RSVP: November17 \n\nSupplies to bring: Snail &amp\; Tear n Tape \n\n\nEve
 nt link: https://stampinup.net/crm/events/63141
LAST-MODIFIED:20200810T080409
LOCATION:StampThat Studio\, New Freedom\, PA
ORGANIZER;CN=Becky Jensen:mailto:becky@stampthat.com
SUMMARY:November Scrap Club
URL;VALUE=URI:https://stampinup.net/crm/events/63141
END:VEVENT
END:VCALENDAR
