BEGIN:VCALENDAR
VERSION:2.0
PRODID:icalendar-ruby
CALSCALE:GREGORIAN
METHOD:PUBLISH
BEGIN:VEVENT
DTSTAMP:20260419T200230Z
UID:event-63138@stampinup.net
DTSTART;VALUE=DATE:20201112
DTEND;VALUE=DATE:20201112
CREATED:20200810T080254
DESCRIPTION:Christmas Cards IV          \n \n\nJoin me to make 1
 2 simple Christmas cards (3 each of 4 designs).  These are totally differ
 ent designs from the cards made in the Christmas Cards I\, II\, and III.\n
 \n \n\nWhen:  Choose one of the dates listed below to attend\n\n\n	Tuesd
 ay\, November 10\, 6:30 P.M.\n	Thursday\, November 12\, 1:00 OR 6:30 P.M.\
 n	Thursday\, November 19\, 1:00 OR 6:30 P.M.\n\n\n \n\nWhere: StampThat\,
  New Freedom\, PA\n\nCost: non-refundable $18.00 \n\nRSVP:  with payment\
 , at least 2 days before you plan to attend class\n\nWhat to bring: Snail 
 &amp\; Tear n Tape\n\n\nEvent link: https://stampinup.net/crm/events/63138
LAST-MODIFIED:20200810T080254
LOCATION:StampThat Studio\, New Freedom\, PA
ORGANIZER;CN=Becky Jensen:mailto:becky@stampthat.com
SUMMARY:Christmas Cards IV
URL;VALUE=URI:https://stampinup.net/crm/events/63138
END:VEVENT
END:VCALENDAR
