BEGIN:VCALENDAR
VERSION:2.0
PRODID:icalendar-ruby
CALSCALE:GREGORIAN
METHOD:PUBLISH
BEGIN:VEVENT
DTSTAMP:20260425T181416Z
UID:event-63119@stampinup.net
DTSTART;VALUE=DATE:20201020
DTEND;VALUE=DATE:20201020
CREATED:20200810T075257
DESCRIPTION:October Scrap Club\n \n\nJoin us to make three 2-page scrapboo
 k layouts using 12x12 paper.  I will send out pictures of the layouts a c
 ouple days in advance so you can pre-choose your pictures to bring to clas
 s.\n\nWhen:  Choose from any of the dates/times listed below:\n\n\n	Thurs
 day\, October 15\, 1:00 OR 6:30 P.M.\n	Tuesday\, October 20\, 6:30 P.M.\n	
 Thursday\, October 22\, 1:00 OR 6:30 P.M.\n\n\n \n\nWhere: StampThat Stud
 io\, New Freedom\, PA\nCost: $18.00 as a member\, $20.00 non-members\nRSV
 P: with payment at least 2 days before you attend class\nSupplies to brin
 g: Snail &amp\; Tear n Tape\n\n\nEvent link: https://stampinup.net/crm/ev
 ents/63119
LAST-MODIFIED:20200810T075257
LOCATION:StampThat Studio\, New Freedom\, PA
ORGANIZER;CN=Becky Jensen:mailto:becky@stampthat.com
SUMMARY:October Scrap Club
URL;VALUE=URI:https://stampinup.net/crm/events/63119
END:VEVENT
END:VCALENDAR
