BEGIN:VCALENDAR
VERSION:2.0
PRODID:icalendar-ruby
CALSCALE:GREGORIAN
METHOD:PUBLISH
BEGIN:VEVENT
DTSTAMP:20260421T092810Z
UID:event-63103@stampinup.net
DTSTART;VALUE=DATE:20200924
DTEND;VALUE=DATE:20200924
CREATED:20200810T074529
DESCRIPTION:September Scrap Club\n \n\nJoin us to make three 2-page scrapb
 ook layouts using 12x12 paper.  I will send out pictures of the layouts a
  couple days in advance so you can pre-choose your pictures to bring to cl
 ass.\n \n\nWhen:  Choose from any of the dates/times listed below:\n\n\n
 	Thursday\, September 17\, 1:00 OR 6:30 P.M.\n	Tuesday\, September 22\, 6:
 30 P.M.\n	Thursday\, September 24\, 1:00 OR 6:30 P.M.\n\n\nWhere: StampTha
 t Studio\, New Freedom\, PA\nCost: $18.00 as a member\, $20.00 non-member
 s\nRSVP: with payment at least 2 days before you attend class\nSupplies t
 o bring: Snail &amp\; Tear n Tape\n\n\nEvent link: https://stampinup.net/
 crm/events/63103
LAST-MODIFIED:20200810T074529
LOCATION:StampThat Studio\, New Freedom\, PA
ORGANIZER;CN=Becky Jensen:mailto:becky@stampthat.com
SUMMARY:September Scrap Club
URL;VALUE=URI:https://stampinup.net/crm/events/63103
END:VEVENT
END:VCALENDAR
