BEGIN:VCALENDAR
VERSION:2.0
PRODID:icalendar-ruby
CALSCALE:GREGORIAN
METHOD:PUBLISH
BEGIN:VEVENT
DTSTAMP:20260422T063758Z
UID:event-63088@stampinup.net
DTSTART;VALUE=DATE:20200903
DTEND;VALUE=DATE:20200903
CREATED:20200810T072407
DESCRIPTION:Punchy Fun\n\nWith all the great dies we have it’s easy to fo
 rget about punches.  Let’s have a little fun with punches in this class
  whether we are simply punching out labels or building creative figures fr
 om the punched shapes\, let’s have some punchy fun!\n\nWhen: Choose one 
 of the dates listed below to attend \n\n\n	Thursday\, September 3\, 1:00 O
 R 6:30 P.M. \n	Tuesday\, September 8\, 1:00 OR 6:30 P.M.\n	Thursday\, Sept
 ember 10\, 1:00 OR 6:30 P.M. \n\n\nWhere: StampThat Studio\, New Freedom\,
  PA \n\nCost: non-refundable $18.00 \n\nRSVP: with payment\, at least 2 da
 ys before you plan to attend class\n\nWhat to bring: Sticky Strip and Snai
 l \n\n\nEvent link: https://stampinup.net/crm/events/63088
LAST-MODIFIED:20200810T072407
LOCATION:StampThat Studio\, New Freedom\, PA
ORGANIZER;CN=Becky Jensen:mailto:becky@stampthat.com
SUMMARY:Punchy Fun 
URL;VALUE=URI:https://stampinup.net/crm/events/63088
END:VEVENT
END:VCALENDAR
