BEGIN:VCALENDAR
VERSION:2.0
PRODID:icalendar-ruby
CALSCALE:GREGORIAN
METHOD:PUBLISH
BEGIN:VEVENT
DTSTAMP:20260423T135311Z
UID:event-62982@stampinup.net
DTSTART;TZID=America/New_York:20201003T090000
DTEND;TZID=America/New_York:20201003T170000
CREATED:20200809T062831
DESCRIPTION:Join us for our upcoming Plaid Virtual Crop with Crop Kingston 
 on Saturday October 3rd! Choose from our Card To Go Kit\, Scrapbook To Go 
 Kit or Virtual Crop Access Pass! Each option includes a PDF of the card &a
 mp\; scrapbook projects along with access to our exclusive Facebook group 
 where we will share live videos\, additional ideas using the products and 
 more! The Card and Scrapbook Kits To Go include cardstock\, embellishments
  and product needed to create the projects. Registration closes September 
 20th.\n\n \n\nCost is $28 for either class to go option or purchase the V
 irtual Crop Access Pass for $18.\n\n \nWe will be using the Banner Year s
 tamp set item # 153464 for our projects. You can purchase this optional ad
 d-on for $23.00 (plus shipping and taxes) either contact us to order or yo
 u can purchase this bundle online https://bit.ly/ShopNowAmandaFarlinger\nC
 heck out the Facebook event for more details:\nhttps://www.facebook.com/ev
 ents/2707633322782753/\n\n\nEvent link: https://stampinup.net/crm/events/6
 2982
LAST-MODIFIED:20200809T062852
LOCATION:Online - Special Facebook Group
ORGANIZER;CN=Amanda Farlinger:mailto:info@fromwhereistamp.ca
SUMMARY:Crop Kingston Plaid Crop
URL;VALUE=URI:https://stampinup.net/crm/events/62982
END:VEVENT
END:VCALENDAR
