BEGIN:VCALENDAR
VERSION:2.0
PRODID:icalendar-ruby
CALSCALE:GREGORIAN
METHOD:PUBLISH
BEGIN:VEVENT
DTSTAMP:20260424T133512Z
UID:event-62942@stampinup.net
DTSTART;TZID=America/Chicago:20220816T173000
DTEND;TZID=America/Chicago:20220816T200000
CREATED:20200808T154130
DESCRIPTION:We will make 3 projects.  Club members agree to order a minimu
 m of $25 and each member takes a turn receiving free Stampin' Rewards.  G
 uests may join us for $15 or place an order of $45 or more and the class i
 s free.  All classes include detailed tutorials\, including photos\, as w
 ell as all supplies cut and prepared for stamping.\n\nEvent link: https://
 stampinup.net/crm/events/62942
LAST-MODIFIED:20220410T115839
LOCATION:St. Paul Lutheran Church\, 208 West Springfield Ave.\, Union\, MO
ORGANIZER;CN=Susan Byington:mailto:scby0323@gmail.com
SUMMARY:Union Stamp Club
URL;VALUE=URI:https://stampinup.net/crm/events/62942
END:VEVENT
END:VCALENDAR
