BEGIN:VCALENDAR
VERSION:2.0
PRODID:icalendar-ruby
CALSCALE:GREGORIAN
METHOD:PUBLISH
BEGIN:VEVENT
DTSTAMP:20260422T003713Z
UID:event-62717@stampinup.net
DTSTART;TZID=America/New_York:20200822T200000
DTEND;TZID=America/New_York:20200822T220000
CREATED:20200806T193752
DESCRIPTION:Join us in the Saturday Night Crafters Facebook Group on Augus
 t 22nd at 8pmET for my Boho Indigo Workshop.  We will be working with the
  Boho Indigo Product Medley to make 2 Fun Fold cards\, an Arrow Fold and N
 apkin Fold\, plus one bonus card.  \n\nVisit my Blog for details on the 
 workshop and supplies that will be used.\n\nhttp://michelles-mbellishments
 .blogspot.com/2020/08/boho-indigo-workshop-preview-arrow-fold.html?m=1\n\n
 http://michelles-mbellishments.blogspot.com/2020/08/boho-indigo-medley-wor
 kshop.html\n\nMake sure to RSVP to be entered to win a Door Prize.\n\nPick
  up your Boho Indigo Product Medley kit or refill kit so you can craft alo
 ng.\n\nAnyone who uses these links to purchase the Boho Indigo Product Me
 dley kit or refill kit in my online store using this month's Host Code
  PZYX2MRV will receive a free gift directly from me. If you place an order
  for over $150 do not use the host code\, just email me stating you placed
  a Boho Indigo Workshop Order.\n\n\n\n \n\nEvent link: https://stampinup.
 net/crm/events/62717
LAST-MODIFIED:20200816T105533
LOCATION:Saturday Night Crafters on Facebook\, https://www.facebook.com/gro
 ups/2531892516846881/
ORGANIZER;CN=Michelle Hollings:mailto:michellena317@gmail.com
SUMMARY:Boho Indigo Workshop
URL;VALUE=URI:https://stampinup.net/crm/events/62717
END:VEVENT
END:VCALENDAR
