BEGIN:VCALENDAR
VERSION:2.0
PRODID:icalendar-ruby
CALSCALE:GREGORIAN
METHOD:PUBLISH
BEGIN:VEVENT
DTSTAMP:20260422T063758Z
UID:event-61812@stampinup.net
DTSTART;TZID=America/New_York:20200827T190000
DTEND;TZID=America/New_York:20200827T210000
CREATED:20200803T040726
DESCRIPTION:Come and stamp with me--the LAST Thursday of the month!\n\nWe'l
 l make 6 cards with envelopes--2 each of 3 designs. This month will be:\n
 \n\n	Hello\n	Thinking of You\n	Sympathy\n\n\n\nBRING A NEW (adult) FRIEND\
 , and you'll each get to make 2 more cards of a 4th design!\n\nCost: $15 o
 r FREE with a minimum purchase\nRSVP by Tuesday\, 8/25\n\n\nEvent link: ht
 tps://stampinup.net/crm/events/61812
LAST-MODIFIED:20200806T033212
LOCATION:my home\, 2520 Michael Ave SW
ORGANIZER;CN=Stephanie Flath:mailto:stephanieflath@gmail.com
SUMMARY:ALL OCCASIONS CARD CLASS
URL;VALUE=URI:https://stampinup.net/crm/events/61812
END:VEVENT
END:VCALENDAR
