BEGIN:VCALENDAR
VERSION:2.0
PRODID:icalendar-ruby
CALSCALE:GREGORIAN
METHOD:PUBLISH
BEGIN:VEVENT
DTSTAMP:20260422T063126Z
UID:event-61808@stampinup.net
DTSTART;TZID=America/New_York:20200818T100000
DTEND;TZID=America/New_York:20200818T120000
CREATED:20200803T034605
DESCRIPTION:** Morning Class **\n\nThis Mini Stack is all about flowers! We
 'll be making 6 cards--2 each of 3 designs using Jar of Flowers\, Celebrat
 e Sunflowers\, and Field of Flowers.\n\nThe class is $15 or free with a qu
 alifying purchase.\n\nRSVP by Friday\, 8/14\n\nEvent link: https://stampin
 up.net/crm/events/61808
LAST-MODIFIED:20200803T034605
LOCATION:my home\, 2520 Michael Ave SW
ORGANIZER;CN=Stephanie Flath:mailto:stephanieflath@gmail.com
SUMMARY:Mini "Flowers" Stamp-a-Stack
URL;VALUE=URI:https://stampinup.net/crm/events/61808
END:VEVENT
END:VCALENDAR
