BEGIN:VCALENDAR
VERSION:2.0
PRODID:icalendar-ruby
CALSCALE:GREGORIAN
METHOD:PUBLISH
BEGIN:VEVENT
DTSTAMP:20260422T062805Z
UID:event-61806@stampinup.net
DTSTART;TZID=America/New_York:20200811T190000
DTEND;TZID=America/New_York:20200811T210000
CREATED:20200803T034014
DESCRIPTION:** Evening Class **\n\nThis Mini Stack is all about animals! We
 'll be making 6 cards--2 each of 3 designs using Goats\, Zebras and Zoo Gl
 obe.\n\nThe class is $15 or free with a qualifying purchase.\n\nRSVP by Fr
 iday\, 8/7\n\nEvent link: https://stampinup.net/crm/events/61806
LAST-MODIFIED:20200803T034748
LOCATION:my home\, 2520 Michael Ave SW
ORGANIZER;CN=Stephanie Flath:mailto:stephanieflath@gmail.com
SUMMARY:Mini "Animals" Stamp-a-Stack
URL;VALUE=URI:https://stampinup.net/crm/events/61806
END:VEVENT
END:VCALENDAR
