BEGIN:VCALENDAR
VERSION:2.0
PRODID:icalendar-ruby
CALSCALE:GREGORIAN
METHOD:PUBLISH
BEGIN:VEVENT
DTSTAMP:20260419T212746Z
UID:event-61683@stampinup.net
DTSTART;TZID=America/New_York:20210421T100000
DTEND;TZID=America/New_York:20210421T130000
CREATED:20200802T131040
DESCRIPTION:\n\nEvent link: https://stampinup.net/crm/events/61683
LAST-MODIFIED:20231008T072158
ORGANIZER;CN=Susan Elise Morton:mailto:SUSANELISE.ALAN@COX.NET
SUMMARY:GOURMET STAMP CLUB
URL;VALUE=URI:https://stampinup.net/crm/events/61683
END:VEVENT
END:VCALENDAR
