BEGIN:VCALENDAR
VERSION:2.0
PRODID:icalendar-ruby
CALSCALE:GREGORIAN
METHOD:PUBLISH
BEGIN:VEVENT
DTSTAMP:20260424T020227Z
UID:event-61649@stampinup.net
DTSTART;TZID=America/Phoenix:20201010T150000
DTEND;TZID=America/Phoenix:20201010T180000
CREATED:20200802T120324
DESCRIPTION:Yay!  It's finally time to get to the rest of our special holi
 day cards - just in time for getting your Christmas card list together!  
 This class features 6 cards and envelopes\, the rest of our faves from the
  Holiday Mini Catty!  Class includes all supplies needed (bring your own 
 snips and fave adhesive!) snacks\, drinks\, and a special gift from me\, a
 ll for $25!  This class can also be FREE with your order of $30 or more!
   RSVP today to save your spot!\n\nEvent link: https://stampinup.net/crm/
 events/61649
LAST-MODIFIED:20200802T122441
LOCATION:chez Heroldt\, 10255 E Verbena Ln\, Scottsdale AZ  85255
ORGANIZER;CN=Heather Heroldt:mailto:heatherheroldt@msn.com
SUMMARY:Christmas Cards 2020 Part 2
URL;VALUE=URI:https://stampinup.net/crm/events/61649
END:VEVENT
END:VCALENDAR
