BEGIN:VCALENDAR
VERSION:2.0
PRODID:icalendar-ruby
CALSCALE:GREGORIAN
METHOD:PUBLISH
BEGIN:VEVENT
DTSTAMP:20260421T231340Z
UID:event-61503@stampinup.net
DTSTART;TZID=America/New_York:20200804T193000
DTEND;TZID=America/New_York:20200804T203000
CREATED:20200801T125550
DESCRIPTION:Join Kathy Ervin and I as we celebrate the release of the new S
 tampin' Up! August - December 2020 Mini Catalog on Facebook Live in the Sa
 turday Night Crafters Facebook Group.  We will show off some projects mad
 e with the new items and there will be door prizes! You must RSVP to enter
  to win a door prize.\n\nEvent link: https://stampinup.net/crm/events/6150
 3
LAST-MODIFIED:20200803T182527
LOCATION:Saturday Night Crafters on Facebook\, https://www.facebook.com/gro
 ups/2531892516846881/
ORGANIZER;CN=Michelle Hollings:mailto:michellena317@gmail.com
SUMMARY:August- December 2020 Mini Catalog Launch Party
URL;VALUE=URI:https://stampinup.net/crm/events/61503
END:VEVENT
END:VCALENDAR
