BEGIN:VCALENDAR
VERSION:2.0
PRODID:icalendar-ruby
CALSCALE:GREGORIAN
METHOD:PUBLISH
BEGIN:VEVENT
DTSTAMP:20260423T191929Z
UID:event-614@stampinup.net
DTSTART;TZID=America/New_York:20190911T100000
DTEND;TZID=America/New_York:20190911T130000
CREATED:20190911T060729
DESCRIPTION:Stamp Class 10 am - 1 pm\n\nEvent link: https://stampinup.net/c
 rm/events/614
LAST-MODIFIED:20190911T135422
LOCATION:My home
ORGANIZER;CN=Eileen Lang:mailto:Eilang56@aol.com
SUMMARY:September Card Class
URL;VALUE=URI:https://stampinup.net/crm/events/614
END:VEVENT
END:VCALENDAR
