BEGIN:VCALENDAR
VERSION:2.0
PRODID:icalendar-ruby
CALSCALE:GREGORIAN
METHOD:PUBLISH
BEGIN:VEVENT
DTSTAMP:20260422T190308Z
UID:event-61308@stampinup.net
DTSTART;TZID=America/New_York:20201003T110000
DTEND;TZID=America/New_York:20201003T170000
CREATED:20200731T084623
DESCRIPTION:Look for details coming soon about this old fashioned Stamp-A-S
 tack style event!\n\nEvent link: https://stampinup.net/crm/events/61308
LAST-MODIFIED:20200902T180649
LOCATION:the Stamp Pad
ORGANIZER;CN=Tracie Langley:mailto:tracie@stampwithtracie.com
SUMMARY:World Card Making Day
URL;VALUE=URI:https://stampinup.net/crm/events/61308
END:VEVENT
END:VCALENDAR
