BEGIN:VCALENDAR
VERSION:2.0
PRODID:icalendar-ruby
CALSCALE:GREGORIAN
METHOD:PUBLISH
BEGIN:VEVENT
DTSTAMP:20260424T060404Z
UID:event-613@stampinup.net
DTSTART;TZID=America/New_York:20200419T140000
DTEND;TZID=America/New_York:20200419T150000
CREATED:20190911T060652
DESCRIPTION:\nOne of my favourite things about being a Stampin' Up! demonst
 rator is having a community of friends who all love Stampin' Up! as much a
 s I do. It is so easy to make new friends when you have such a fabulous ho
 bby in common!\n\nOne way we stay connected and share ideas is our monthly
  Stamp 'n' Share\, when members of my Stamping Symphony team come to my st
 udio\, bringing whatever projects they want to work on. They have free use
  of all of my tools\, giving them time to plan new classes\, try products 
 they don't yet own and brainstorm business strategies. It is a great way t
 o connect and I always love having company in my studio!\n\nDuring Covid-1
 9 we are gathering virtually to keep everyone safe. We enjoy chatting and 
 sharing ideas as we each work on our own projects from the safety of our o
 wn homes.\n\nTo learn more about the many benefits of being a demonstrator
  on my Stamping Symphony team\, click "Join" above. \n\n\nEvent link: htt
 ps://stampinup.net/crm/events/613
LAST-MODIFIED:20210417T080817
LOCATION:A La Cards Studio\, 19 Hurlbut Place\, Cambridge ON
ORGANIZER;CN=Leena Girsa:mailto:lgirsa@gmail.com
SUMMARY:Sunday Stamp 'n' Share
URL;VALUE=URI:https://stampinup.net/crm/events/613
RRULE:FREQ=MONTHLY;BYDAY=3SU
END:VEVENT
END:VCALENDAR
