BEGIN:VCALENDAR
VERSION:2.0
PRODID:icalendar-ruby
CALSCALE:GREGORIAN
METHOD:PUBLISH
BEGIN:VEVENT
DTSTAMP:20260423T103904Z
UID:event-61058@stampinup.net
DTSTART;TZID=America/Phoenix:20200804T083000
DTEND;TZID=America/Phoenix:20200804T090000
CREATED:20200728T211751
DESCRIPTION:Join me for a Facebook Live where I'll show you how to make an 
 easy\, peasy gift card holder.\n\nhttps://www.facebook.com/KimQuadePlaysWi
 thPaper/\n\nEvent link: https://stampinup.net/crm/events/61058
LAST-MODIFIED:20200728T211751
ORGANIZER;CN=Kim Quade:mailto:kimqskards@gmail.com
SUMMARY:Facebook Live--Easy Gift Card Holder
URL;VALUE=URI:https://stampinup.net/crm/events/61058
END:VEVENT
END:VCALENDAR
