BEGIN:VCALENDAR
VERSION:2.0
PRODID:icalendar-ruby
CALSCALE:GREGORIAN
METHOD:PUBLISH
BEGIN:VEVENT
DTSTAMP:20260419T223718Z
UID:event-60445@stampinup.net
DTSTART;TZID=America/New_York:20200826T190000
DTEND;TZID=America/New_York:20200826T210000
CREATED:20200725T082715
DESCRIPTION:\n	\n		\n			\n			\n				\n					\n						Holiday Express Card Clas
 s – Wed Aug 26 – 7pm to 9pm\n						RVSP – Aug 8\n						\n						Intro
 ducing our new Holiday Class Series called Holiday Express!\n						We will
  be making 5 card using the Snowflake Wishes stamp set. \n						These car
 d will be ones that you could easily recreate for your \n						holiday ca
 rd this year! \n						\n						Your class fee with include the following s
 upplies:\n						an embellishment\n						all the supplies to create the car
 ds at home\n						\n						You will need the following supplies to create y
 our page at \n						home the night of class:\n						\n						Snowflake Wis
 hes Stamp Set or\n						you can use any other greeting of your choice\n			
 			Highland Heather Ink Pad\n						Night of Navy Ink Pad\n						Coastal Ca
 bana Ink Pad\n						\n						** you can add these items onto your order OR 
 you can use the colours you have on hand at home ** \n						\n						The c
 ost of the class is $25 which includes an embellishment\n						\n						Ple
 ase register for this class by Aug 8\, I will then place the order for the
  kits\, and they will be ready to go by Aug 18th. To register please email
  me with Key Word " Snowflake Wishes" \n						\n						Want to add on the 
 Stamp Set:\n						Snowflake Wishes Stamp – includes the stamp set - The 
 additional cost would be $40 (save the shipping when you add on as part of
  this class)\n						\n						The night of class\, we will meet via Zoom and
  I will be\n						stamping with you as we create these holiday cards toget
 her. \n					\n				\n			\n			\n		\n	\n\n\n\n	\n		\n			\n			\n				\n					\n
 						\n						\n							\n								\n									\n								\n							\n						\n	
 					\n					\n				\n			\n			\n		\n	\n\n\n\nEvent link: https://stampinup.n
 et/crm/events/60445
LAST-MODIFIED:20200725T082947
LOCATION:Online 
ORGANIZER;CN=Anne Granger:mailto:agranger21@outlook.com
SUMMARY:Snowflake Wishes Holiday Card Class 
URL;VALUE=URI:https://stampinup.net/crm/events/60445
END:VEVENT
END:VCALENDAR
