BEGIN:VCALENDAR
VERSION:2.0
PRODID:icalendar-ruby
CALSCALE:GREGORIAN
METHOD:PUBLISH
BEGIN:VEVENT
DTSTAMP:20260425T133305Z
UID:event-60261@stampinup.net
DTSTART;TZID=Europe/Amsterdam:20201024T100000
DTEND;TZID=Europe/Amsterdam:20201024T160000
CREATED:20200723T072955
DESCRIPTION:De herfst is nu echt begonnen. Maak het weer gezellig in huis m
 et bloemen\, kaartjes en kaarsjes. Op deze dag gaan we daar mee aan de sla
 g. Een bloemstukje met verse bloemen. Bloemen kaarten\, bloemen labels. Er
  staat genoeg op het programma. We zullen met verschillende stempelsets ga
 an werken. Indien je vooraf wilt weten welke zodat je die kan bestellen in
 formeer dan uiterlijk 14 oktober zodat ik kan zorgen dat ik ze op tijd voo
 r je bestel.\nPrijs voor deze complete dag\, inclusief alle materialen voo
 r papier en bloemschikken en caterling € 75\,=\n\nEvent link: https://st
 ampinup.net/crm/events/60261
LAST-MODIFIED:20200723T072955
LOCATION:Atelier bij-Ellen\, Rinnegom\, Herenweg 91\, 1935 AH Egmond Binnen
ORGANIZER;CN=Ellen Liefting:mailto:info@ellenliefting.nl
SUMMARY:Stempeldag thema Bloemen
URL;VALUE=URI:https://stampinup.net/crm/events/60261
END:VEVENT
END:VCALENDAR
