BEGIN:VCALENDAR
VERSION:2.0
PRODID:icalendar-ruby
CALSCALE:GREGORIAN
METHOD:PUBLISH
BEGIN:VEVENT
DTSTAMP:20260422T141921Z
UID:event-60060@stampinup.net
DTSTART;TZID=America/New_York:20200812T100000
DTEND;TZID=America/New_York:20200812T130000
CREATED:20200721T085037
DESCRIPTION:See Monday\, August 10th for class details. \n\nEvent link: ht
 tps://stampinup.net/crm/events/60060
LAST-MODIFIED:20200721T085037
ORGANIZER;CN=Eileen Lang:mailto:Eilang56@aol.com
SUMMARY:August Stamp Class
URL;VALUE=URI:https://stampinup.net/crm/events/60060
END:VEVENT
END:VCALENDAR
