BEGIN:VCALENDAR
VERSION:2.0
PRODID:icalendar-ruby
CALSCALE:GREGORIAN
METHOD:PUBLISH
BEGIN:VEVENT
DTSTAMP:20260422T003713Z
UID:event-59146@stampinup.net
DTSTART;TZID=America/New_York:20200921T100000
DTEND;TZID=America/New_York:20200921T120000
CREATED:20200713T121749
DESCRIPTION:Come learn some fun techniques for your cards. You'll make 3 st
 ep-up wow projects and learn some new things. $25 or FREE with an order (m
 in. $30). Classes will be online while pandemic continues. Packets can be 
 picked up from my home a week before the class or mailed. RSVP Sept 1.\n\n
 Event link: https://stampinup.net/crm/events/59146
LAST-MODIFIED:20200713T121749
LOCATION:Online
ORGANIZER;CN=Genevieve Ko:mailto:genstampin4fun@gmail.com
SUMMARY:Morning Technique Class
URL;VALUE=URI:https://stampinup.net/crm/events/59146
END:VEVENT
END:VCALENDAR
