BEGIN:VCALENDAR
VERSION:2.0
PRODID:icalendar-ruby
CALSCALE:GREGORIAN
METHOD:PUBLISH
BEGIN:VEVENT
DTSTAMP:20260424T171652Z
UID:event-58367@stampinup.net
DTSTART;TZID=America/Chicago:20200828T120000
DTEND;TZID=America/Chicago:20200828T203000
CREATED:20200706T201826
DESCRIPTION:All day sessions for Silver Elite and above\n\nEvent link: http
 s://stampinup.net/crm/events/58367
LAST-MODIFIED:20200706T202825
ORGANIZER;CN=Becky Taylor:mailto:beckytaylor51@comcast.net
SUMMARY:Leaders Summit
URL;VALUE=URI:https://stampinup.net/crm/events/58367
END:VEVENT
END:VCALENDAR
