BEGIN:VCALENDAR
VERSION:2.0
PRODID:icalendar-ruby
CALSCALE:GREGORIAN
METHOD:PUBLISH
BEGIN:VEVENT
DTSTAMP:20260425T115420Z
UID:event-58366@stampinup.net
DTSTART;TZID=America/Chicago:20200827T140000
DTEND;TZID=America/Chicago:20200827T160000
CREATED:20200706T201618
DESCRIPTION:Welcome Reception to Virtual Leaders Summit (available to demon
 strators Silver Elite and Above)\n\nEvent link: https://stampinup.net/crm/
 events/58366
LAST-MODIFIED:20200706T202640
LOCATION:Stampin' Up!
ORGANIZER;CN=Becky Taylor:mailto:beckytaylor51@comcast.net
SUMMARY:Leaders Summit
URL;VALUE=URI:https://stampinup.net/crm/events/58366
END:VEVENT
END:VCALENDAR
