BEGIN:VCALENDAR
VERSION:2.0
PRODID:icalendar-ruby
CALSCALE:GREGORIAN
METHOD:PUBLISH
BEGIN:VEVENT
DTSTAMP:20260422T090224Z
UID:event-57501@stampinup.net
DTSTART;TZID=America/New_York:20200826T180000
DTEND;TZID=America/New_York:20200826T193000
CREATED:20200630T170300
DESCRIPTION:Card Making 101 Come out and learn the art of stamping while cr
 eating four greeting cards.  In this class participants will use a variet
 y of stamps\, ink\, paper\, and embellishments to create hand crafted gree
 ting cards in a fun and creative atmosphere.  $5 registration fee payable
  to CCPR / $15 supply fee payable to instruction.  To register:\n \n\nPh
 one 540-955-5140\n\nMail the registration form to CCPR\, 225 Al Smith Circ
 le\, Berryville\, VA 22611\n\nFax the registration form to  540-955-4049\
 n\nVisit them in person at the Recreation Center\n\n \n\n\nEvent link: ht
 tps://stampinup.net/crm/events/57501
LAST-MODIFIED:20200630T170912
LOCATION:Clarke County Recreation Center\, 225 Al Smith Circle\, Berryville
 \, VA
ORGANIZER;CN=Judy Klock:mailto:craftyklock@gmail.com
SUMMARY:Card Making 101
URL;VALUE=URI:https://stampinup.net/crm/events/57501
END:VEVENT
END:VCALENDAR
