BEGIN:VCALENDAR
VERSION:2.0
PRODID:icalendar-ruby
CALSCALE:GREGORIAN
METHOD:PUBLISH
BEGIN:VEVENT
DTSTAMP:20260423T210241Z
UID:event-57500@stampinup.net
DTSTART;TZID=America/New_York:20200812T180000
DTEND;TZID=America/New_York:20200812T203000
CREATED:20200630T165441
DESCRIPTION:Join us for a fun night of crafting and bingo!  We'll play fiv
 e games of bingo while creating four fun projects.  Prizes will consist o
 f new Stampin' Up! supplies.  Door prizes and a good bag will add to the 
 fun.  $5 registration fee payable to CCPR / $35 supply fee payable to ins
 tructor.   Register with Clarke County Parks and Rec:\n \n\n1. Phone 54
 0-955-5140\n\n2. Mail the registration form to: CCPR 225 Al Smith Circle B
 erryville\, VA 22611\n\n3. Fax the registration form to 540-955-4049\n\n4.
  Visit them in person at the Recreation Center\n\n\nEvent link: https://s
 tampinup.net/crm/events/57500
LAST-MODIFIED:20200630T165441
LOCATION:Clarke County Recreation Center\, 225 Al Smith Circle\, Berryville
 \, VA
ORGANIZER;CN=Judy Klock:mailto:craftyklock@gmail.com
SUMMARY:Stampin' Bingo!
URL;VALUE=URI:https://stampinup.net/crm/events/57500
END:VEVENT
END:VCALENDAR
