BEGIN:VCALENDAR
VERSION:2.0
PRODID:icalendar-ruby
CALSCALE:GREGORIAN
METHOD:PUBLISH
BEGIN:VEVENT
DTSTAMP:20260420T175023Z
UID:event-57044@stampinup.net
DTSTART;TZID=America/Chicago:20200804T180000
DTEND;TZID=America/Chicago:20200804T190000
CREATED:20200627T161605
DESCRIPTION:\n\nEvent link: https://stampinup.net/crm/events/57044
LAST-MODIFIED:20200627T161605
ORGANIZER;CN=Donna Ross:mailto:dje-ross@swbell.net
SUMMARY:Stampin' Up! August-December 2020 Mini Catalog Released for custome
 r orders
URL;VALUE=URI:https://stampinup.net/crm/events/57044
END:VEVENT
END:VCALENDAR
