BEGIN:VCALENDAR
VERSION:2.0
PRODID:icalendar-ruby
CALSCALE:GREGORIAN
METHOD:PUBLISH
BEGIN:VEVENT
DTSTAMP:20260419T185406Z
UID:event-57043@stampinup.net
DTSTART;TZID=America/Chicago:20200801T180000
DTEND;TZID=America/Chicago:20200801T190000
CREATED:20200627T161507
DESCRIPTION:\n\nEvent link: https://stampinup.net/crm/events/57043
LAST-MODIFIED:20200627T161507
ORGANIZER;CN=Donna Ross:mailto:dje-ross@swbell.net
SUMMARY:Reminder:  Mail Back-To-School Greeting Cards and/or prepare Teache
 r Gifts
URL;VALUE=URI:https://stampinup.net/crm/events/57043
END:VEVENT
END:VCALENDAR
