BEGIN:VCALENDAR
VERSION:2.0
PRODID:icalendar-ruby
CALSCALE:GREGORIAN
METHOD:PUBLISH
BEGIN:VEVENT
DTSTAMP:20260420T020744Z
UID:event-57024@stampinup.net
DTSTART;VALUE=DATE:20200602
DTEND;VALUE=DATE:20200602
CREATED:20200627T154311
DESCRIPTION:\n\nEvent link: https://stampinup.net/crm/events/57024
LAST-MODIFIED:20200627T155907
ORGANIZER;CN=Donna Ross:mailto:dje-ross@swbell.net
SUMMARY:Stampin' Up! Annual Catalog available for Customer Orders
URL;VALUE=URI:https://stampinup.net/crm/events/57024
END:VEVENT
END:VCALENDAR
