BEGIN:VCALENDAR
VERSION:2.0
PRODID:icalendar-ruby
CALSCALE:GREGORIAN
METHOD:PUBLISH
BEGIN:VEVENT
DTSTAMP:20260425T101806Z
UID:event-56810@stampinup.net
DTSTART;TZID=America/Denver:20220522T140000
DTEND;TZID=America/Denver:20220522T160000
CREATED:20200626T065751
DESCRIPTION:Let’s get together and assemble our Paper Pumpkins!\n\nOn the
  4th  Sunday of the month\, I host a Paper Pumpkin Kit Social where you c
 an come and assemble your Paper Pumpkin Kits together.  I’ll have some 
 alternative ideas for each months kit to help inspire you.\n\nThe social 
 is free\, you just need to bring your Paper Pumpkin from that month.  Sig
 n-up by the 10th of the month to ensure you will have your kit!  Head ove
 r to PaperPumkin.com and sign up for a monthly subscription\, or choose 
 a prepaid Paper Pumpkin from my online store.\n\nThe Paper Pumpkin kit i
 s an all-inclusive crafting kit that is delivered mid-month suitable for a
 ll crafting abilities.  Find out more about Paper Pumpkin here.\n\n.\n\n
 \nEvent link: https://stampinup.net/crm/events/56810
LAST-MODIFIED:20230403T092613
LOCATION:Rez Church Crossroads Campus \, 6502 E Crossroads Blvd.\, Loveland
 \, CO 80538
ORGANIZER;CN=Terri Brumagim:mailto:tbrumagim@msn.com
SUMMARY:Paper Pumpkin Social
URL;VALUE=URI:https://stampinup.net/crm/events/56810
END:VEVENT
END:VCALENDAR
