BEGIN:VCALENDAR
VERSION:2.0
PRODID:icalendar-ruby
CALSCALE:GREGORIAN
METHOD:PUBLISH
BEGIN:VEVENT
DTSTAMP:20260424T084240Z
UID:event-566@stampinup.net
DTSTART;TZID=America/New_York:20190914T100000
DTEND;TZID=America/New_York:20190914T160000
CREATED:20190911T055127
DESCRIPTION:For class details visit https://stamptilyoudrop.com/classes-an
 d-events-2/classes-and-events/\n\nEvent link: https://stampinup.net/crm/ev
 ents/566
LAST-MODIFIED:20190911T055127
LOCATION:St Matthews Church\, 129 Old Loudon Road Latham NY 12110
ORGANIZER;CN=Joanne Mulligan:mailto:joloves2stamp@gmail.com
SUMMARY:Holiday Catalog Launch Party
URL;VALUE=URI:https://stampinup.net/crm/events/566
END:VEVENT
END:VCALENDAR
