BEGIN:VCALENDAR
VERSION:2.0
PRODID:icalendar-ruby
CALSCALE:GREGORIAN
METHOD:PUBLISH
BEGIN:VEVENT
DTSTAMP:20260419T175602Z
UID:event-56331@stampinup.net
DTSTART;TZID=America/Denver:20210114T193000
DTEND;TZID=America/Denver:20210114T203000
CREATED:20200622T223257
DESCRIPTION:Exercise your creative muscles! Make beautiful things with rubb
 er stamps\, ink and paper for just $7 (free for Club Members or guests who
  place a $50 order). Bring your own scissors and adhesive (or purchase the
 m at class). Invite a friend to come for twice the fun! RSVP at least 2 da
 ys in advance so I can prepare materials for you.\n\nEvent link: https://s
 tampinup.net/crm/events/56331
LAST-MODIFIED:20200622T223257
ORGANIZER;CN=Loni Spendlove:mailto:lonispendlove@gmail.com
SUMMARY:Creative Juice Stamp Club
URL;VALUE=URI:https://stampinup.net/crm/events/56331
END:VEVENT
END:VCALENDAR
