BEGIN:VCALENDAR
VERSION:2.0
PRODID:icalendar-ruby
CALSCALE:GREGORIAN
METHOD:PUBLISH
BEGIN:VEVENT
DTSTAMP:20260423T233119Z
UID:event-562@stampinup.net
DTSTART;TZID=America/New_York:20191023T080000
DTEND;TZID=America/New_York:20191023T210000
CREATED:20190911T054953
DESCRIPTION:Join the fall session of my Memories and More club and I'll sho
 w you just how easy it is to preserve your family's precious memories.\nEa
 ch month we will create 6 12”x12” pocket page scrapbook layouts using 
 that month’s featured kit and product bundle. We will use one card kit a
 nd the coordinating bundle for two months (that’s 12 layouts!)\, giving 
 you lots of ideas for the featured kit.\n\nWe will meet monthly\, on the f
 ourth Wednesday of the month from September through December. By the end o
 f the session\, you'll have 24 complete layouts\, ready to add your photos
 ! I'll also give some tips for organizing and backing up your photos.\n\nJ
 oining the club requires an initial purchase of a set of Variety Pack 12" 
 x 12" Pocket Pages (AC pg.194) at a cost of $13.00.\n\nCost: $35/month - Y
 ou will receive the featured card kit and a product bundle which includes 
 a selection of coordinating products. We will use the card kit and product
  bundle for two months at the end of which you will take home all remainin
 g items. Click HERE to learn more about the club or click RSVP below to re
 serve your spot. \n\nEvent link: https://stampinup.net/crm/events/562
LAST-MODIFIED:20190911T054953
LOCATION:A La Cards Studio\, 19 Hurlbut Place\, Cambridge ON
ORGANIZER;CN=Leena Girsa:mailto:lgirsa@gmail.com
SUMMARY:Memories & More Club
URL;VALUE=URI:https://stampinup.net/crm/events/562
END:VEVENT
END:VCALENDAR
