BEGIN:VCALENDAR
VERSION:2.0
PRODID:icalendar-ruby
CALSCALE:GREGORIAN
METHOD:PUBLISH
BEGIN:VEVENT
DTSTAMP:20260420T045620Z
UID:event-55891@stampinup.net
DTSTART;TZID=Australia/Perth:20200707T123000
DTEND;TZID=Australia/Perth:20200707T133000
CREATED:20200619T035706
DESCRIPTION:\n\nEvent link: https://stampinup.net/crm/events/55891
LAST-MODIFIED:20200619T035706
LOCATION:Your Place
ORGANIZER;CN=Denise Buetler:mailto:denisebuetler@gmail.com
SUMMARY:Tips & Techniques via Zoom
URL;VALUE=URI:https://stampinup.net/crm/events/55891
END:VEVENT
END:VCALENDAR
