BEGIN:VCALENDAR
VERSION:2.0
PRODID:icalendar-ruby
CALSCALE:GREGORIAN
METHOD:PUBLISH
BEGIN:VEVENT
DTSTAMP:20260422T141241Z
UID:event-55752@stampinup.net
DTSTART;TZID=America/Chicago:20200623T100000
DTEND;TZID=America/Chicago:20200623T103000
CREATED:20200618T061953
DESCRIPTION:Facebook LIVE weekly downline training Our local team is a thri
 ving and growing group of demonstrators. Some are actively running a busin
 ess and some are hobby demos who joined for the discount.  This Facebook 
 group is our community. https://www.facebook.com/groups/INKcredibleCraftyC
 rew/\n\nI provide weekly training tips to the Crew through our Tuesday mor
 ning Tips at Ten.  I also provide training for a larger group of local de
 monstrators: the Madison Area Stamping Stars\, each time there is a releas
 e of a new Stampin'Up! catalog.\n\nEmail me to learn more about the kind o
 f support you'll get when you join the Crafty Crew\n\n \n\nEvent link: ht
 tps://stampinup.net/crm/events/55752
LAST-MODIFIED:20210530T153448
ORGANIZER;CN=Katie Johnson:mailto:katiejohnson@inkcrediblecrafts.com
SUMMARY:Crafty Crew Tuesday Tips 
URL;VALUE=URI:https://stampinup.net/crm/events/55752
END:VEVENT
END:VCALENDAR
