BEGIN:VCALENDAR
VERSION:2.0
PRODID:icalendar-ruby
CALSCALE:GREGORIAN
METHOD:PUBLISH
BEGIN:VEVENT
DTSTAMP:20260424T005349Z
UID:event-5559@stampinup.net
DTSTART;TZID=America/New_York:20190915T130000
DTEND;TZID=America/New_York:20190915T160000
CREATED:20190912T194409
DESCRIPTION:This session is for Stamp Club members who normally meet on the
  second Thursday of each month.  I appreciate you switching our date for 
 my vacation.  Let's get together today and stamp!  If you cannot make it
  today\, please let me know and we can make another date to stamp.  Thank
  you\, ladies!\n\nEvent link: https://stampinup.net/crm/events/5559
LAST-MODIFIED:20190912T205122
LOCATION:Busy Bee Stationary & Stitches\, 7306 Belair Road
ORGANIZER;CN=Nancy Amato:mailto:stampinnancy@gmail.com
SUMMARY:Stamp Club Make-Up
URL;VALUE=URI:https://stampinup.net/crm/events/5559
END:VEVENT
END:VCALENDAR
