BEGIN:VCALENDAR
VERSION:2.0
PRODID:icalendar-ruby
CALSCALE:GREGORIAN
METHOD:PUBLISH
BEGIN:VEVENT
DTSTAMP:20260425T132230Z
UID:event-55450@stampinup.net
DTSTART;TZID=America/New_York:20200826T190000
DTEND;TZID=America/New_York:20200826T200000
CREATED:20200615T105420
DESCRIPTION:Wednesday. Aug. 26th 7pm Sweet and Simple Class: Holiday Catalo
 gue Kick Off Make 4 cards which highlight product from the new holiday cat
 alogue! Cost: $25 includes a new holiday embellishment RSVP by August 4th 
 Invite a new friend to register for the class and both of you will receive
  a double set of cards FREE!\nClass special: Add on the feature stamp set:
  Beautiful Autumn for the discounted price of only $26.  \n\n\nEvent lin
 k: https://stampinup.net/crm/events/55450
LAST-MODIFIED:20200720T101036
ORGANIZER;CN=Genevieve Ko:mailto:genstampin4fun@gmail.com
SUMMARY:Sweet and Simple Card Class: Holiday Catalogue Kick off
URL;VALUE=URI:https://stampinup.net/crm/events/55450
END:VEVENT
END:VCALENDAR
