BEGIN:VCALENDAR
VERSION:2.0
PRODID:icalendar-ruby
CALSCALE:GREGORIAN
METHOD:PUBLISH
BEGIN:VEVENT
DTSTAMP:20260423T130740Z
UID:event-55448@stampinup.net
DTSTART;TZID=America/New_York:20200803T190000
DTEND;TZID=America/New_York:20200803T200000
CREATED:20200615T104756
DESCRIPTION:Technique Class Come learn some fun techniques for your cards. 
 You’ll make 3 step-up wow projects and learn some new things.  We usual
 ly meet on the first Monday of each month.$25 or FREE with an order (min. 
 $30).  Classes will be online while pandemic continues. Packets can be pi
 cked up from my home the weekend before the class.  RSVP one week before 
 the class. \n\n\nEvent link: https://stampinup.net/crm/events/55448
LAST-MODIFIED:20200615T104756
ORGANIZER;CN=Genevieve Ko:mailto:genstampin4fun@gmail.com
SUMMARY:Evening Technique Class
URL;VALUE=URI:https://stampinup.net/crm/events/55448
END:VEVENT
END:VCALENDAR
