BEGIN:VCALENDAR
VERSION:2.0
PRODID:icalendar-ruby
CALSCALE:GREGORIAN
METHOD:PUBLISH
BEGIN:VEVENT
DTSTAMP:20260423T060604Z
UID:event-55445@stampinup.net
DTSTART;TZID=America/New_York:20200725T190000
DTEND;TZID=America/New_York:20200725T200000
CREATED:20200615T104420
DESCRIPTION:Saturday. July 25th 7pm Sweet and Simple Class: Christmas in Ju
 ly: An annual tradition!  Beat the holiday rush and get some Christmas ca
 rds made now!  Make 4 Christmas themed cards for $25 and get a pack of ho
 liday rhinestones included.  Make two of each set for only $10 more AND r
 eceive 2 acetate card boxes to store or gift your cards. RSVP required by 
 July 6th \n\n\nEvent link: https://stampinup.net/crm/events/55445
LAST-MODIFIED:20200615T104420
ORGANIZER;CN=Genevieve Ko:mailto:genstampin4fun@gmail.com
SUMMARY:Sweet and Simple Card Class: Christmas in July
URL;VALUE=URI:https://stampinup.net/crm/events/55445
END:VEVENT
END:VCALENDAR
