BEGIN:VCALENDAR
VERSION:2.0
PRODID:icalendar-ruby
CALSCALE:GREGORIAN
METHOD:PUBLISH
BEGIN:VEVENT
DTSTAMP:20260422T234056Z
UID:event-55442@stampinup.net
DTSTART;TZID=America/New_York:20200706T100000
DTEND;TZID=America/New_York:20200706T110000
CREATED:20200615T103722
DESCRIPTION:Morning Technique Class Come learn some fun techniques for your
  cards. You’ll make 3 step-up wow projects and learn some new things.  
 We usually meet on the first Monday of each month.$25 or FREE with an orde
 r (min. $30).  Classes will be online while pandemic continues. Packets c
 an be picked up from my home the weekend before the class.  RSVP one week
  before the class. \n\n\nEvent link: https://stampinup.net/crm/events/5544
 2
LAST-MODIFIED:20200615T103722
ORGANIZER;CN=Genevieve Ko:mailto:genstampin4fun@gmail.com
SUMMARY:Technique Class
URL;VALUE=URI:https://stampinup.net/crm/events/55442
END:VEVENT
END:VCALENDAR
