BEGIN:VCALENDAR
VERSION:2.0
PRODID:icalendar-ruby
CALSCALE:GREGORIAN
METHOD:PUBLISH
BEGIN:VEVENT
DTSTAMP:20260422T173454Z
UID:event-55440@stampinup.net
DTSTART;TZID=America/New_York:20200725T130000
DTEND;TZID=America/New_York:20200725T140000
CREATED:20200615T103219
DESCRIPTION:Saturday. July 25th 1pm Prized Peony Class: Make 8 gorgeous car
 ds using the Prized Peony Stamp set.  Receive the card packets and the st
 unning stamp set delivered to your door and join in the zoom video class t
 o learn tips and tricks for creating your cards. Cost: $50.  Add on the c
 oordinating dies for only $47 more.  Register by July 6th \n\n\nEvent lin
 k: https://stampinup.net/crm/events/55440
LAST-MODIFIED:20200615T103219
ORGANIZER;CN=Genevieve Ko:mailto:genstampin4fun@gmail.com
SUMMARY:Prized Peony Class
URL;VALUE=URI:https://stampinup.net/crm/events/55440
END:VEVENT
END:VCALENDAR
