BEGIN:VCALENDAR
VERSION:2.0
PRODID:icalendar-ruby
CALSCALE:GREGORIAN
METHOD:PUBLISH
BEGIN:VEVENT
DTSTAMP:20260422T161317Z
UID:event-55191@stampinup.net
DTSTART;TZID=America/New_York:20200822T140000
DTEND;TZID=America/New_York:20200822T160000
CREATED:20200612T062050
DESCRIPTION:Saturday. August 22nd 2pm Socially Safe Stamp Camp: A new holid
 ay catalogue is here and it’s time to play and be inspired! Unless publi
 c health guidelines change\, it will run similar to the June Stamp camp. 
  Join in over zoom video to see fun stamping demonstrations and see how to
  assemble the 10 different cards using a wide variety of new holiday catal
 ogue product.  Choose your option for receiving your cardmaking packet an
 d goodie bag: 1) I will pick up my unassembled kit (option to choose a sta
 mping slot in my garage) 2) I will pick up the kit with the 10 cards full
 y stamped and assembled 3) Please mail my kit with the cards unassemble
 d and unstamped 4) Please mail my kit with the cards fully stamped and as
 sembled. Cost: $65 (Team STIC and Club members save $10) Register by July 
 25th.  (Add $10 for shipping) \n\n\nEvent link: https://stampinup.net/cr
 m/events/55191
LAST-MODIFIED:20200612T062050
ORGANIZER;CN=Genevieve Ko:mailto:genstampin4fun@gmail.com
SUMMARY:Socially Safe Stamp Camp
URL;VALUE=URI:https://stampinup.net/crm/events/55191
END:VEVENT
END:VCALENDAR
